BEGIN:VCALENDAR
VERSION:2.0
PRODID:-//eventon.com NONSGML v1.0//EN
CALSCALE:GREGORIAN
METHOD:PUBLISH
BEGIN:VEVENT
UID:69e9dc03ab651
DTSTAMP:20260423T104451
DTSTART:20260401T100000Z
DTEND:20260430T235000Z
TZID:Europe/Berlin
LOCATION:
SUMMARY:Digital Abo
DESCRIPTION:Das Digital Abo bietet perfekte Rahmenbedingungen für ein effektives und motivierendes Training in den eigenen vier Wänden. Mit dem Abonnement erhalten Sie &#8230; kostenfreier Zugriff auf alle Videos on Demand kostenfreier Zugang zu den Fitness-Livestreams Hotline-Service bei Fragen in Sachen digitaler Technik &nbsp; Nach der Buchung erhalten Sie per E-Mail[..]
URL:https://www.tsg-weinheim.de/events/digitalabo/
END:VEVENT
END:VCALENDAR