BEGIN:VCALENDAR
VERSION:2.0
PRODID:-//eventon.com NONSGML v1.0//EN
CALSCALE:GREGORIAN
METHOD:PUBLISH
BEGIN:VEVENT
UID:69e8c755a2e59
DTSTAMP:20260422T150421
DTSTART:20340809T193500Z
DTEND:20340809T201500Z
TZID:UTC
LOCATION:
SUMMARY:Aqua-HIIT
DESCRIPTION:Schwierigkeit: F-A &nbsp;
URL:https://www.tsg-weinheim.de/events/aqua-hiit/var/ri-512.l-L1
END:VEVENT
END:VCALENDAR