BEGIN:VCALENDAR
VERSION:2.0
PRODID:-//eventon.com NONSGML v1.0//EN
CALSCALE:GREGORIAN
METHOD:PUBLISH
BEGIN:VEVENT
UID:69ea2a6c353e8
DTSTAMP:20260423T161924
DTSTART:20341129T193500Z
DTEND:20341129T201500Z
TZID:UTC
LOCATION:
SUMMARY:Aqua-HIIT
DESCRIPTION:Schwierigkeit: F-A &nbsp;
URL:https://www.tsg-weinheim.de/events/aqua-hiit/var/ri-528.l-L1
END:VEVENT
END:VCALENDAR