BEGIN:VCALENDAR
VERSION:2.0
PRODID:-//eventon.com NONSGML v1.0//EN
CALSCALE:GREGORIAN
METHOD:PUBLISH
BEGIN:VEVENT
UID:69eb8a640edb2
DTSTAMP:20260424T172108
DTSTART:20350321T193500Z
DTEND:20350321T201500Z
TZID:UTC
LOCATION:
SUMMARY:Aqua-HIIT
DESCRIPTION:Schwierigkeit: F-A &nbsp;
URL:https://www.tsg-weinheim.de/events/aqua-hiit/var/ri-544.l-L1
END:VEVENT
END:VCALENDAR