BEGIN:VCALENDAR
VERSION:2.0
PRODID:-//eventon.com NONSGML v1.0//EN
CALSCALE:GREGORIAN
METHOD:PUBLISH
BEGIN:VEVENT
UID:69eba01e5b7a3
DTSTAMP:20260424T185350
DTSTART:20350328T193500Z
DTEND:20350328T201500Z
TZID:UTC
LOCATION:
SUMMARY:Aqua-HIIT
DESCRIPTION:Schwierigkeit: F-A &nbsp;
URL:https://www.tsg-weinheim.de/events/aqua-hiit/var/ri-545.l-L1
END:VEVENT
END:VCALENDAR