BEGIN:VCALENDAR
VERSION:2.0
PRODID:-//eventon.com NONSGML v1.0//EN
CALSCALE:GREGORIAN
METHOD:PUBLISH
BEGIN:VEVENT
UID:69ec98889db9f
DTSTAMP:20260425T123344
DTSTART:20350613T193500Z
DTEND:20350613T201500Z
TZID:UTC
LOCATION:
SUMMARY:Aqua-HIIT
DESCRIPTION:Schwierigkeit: F-A &nbsp;
URL:https://www.tsg-weinheim.de/events/aqua-hiit/var/ri-556.l-L1
END:VEVENT
END:VCALENDAR