BEGIN:VCALENDAR
VERSION:2.0
PRODID:-//eventon.com NONSGML v1.0//EN
CALSCALE:GREGORIAN
METHOD:PUBLISH
BEGIN:VEVENT
UID:69e518ed3d2f3
DTSTAMP:20260419T200325
DTSTART:20241010T100500Z
DTEND:20241010T105500Z
TZID:UTC
LOCATION:
SUMMARY:Pilates
DESCRIPTION:Schwierigkeit: G-F
URL:https://www.tsg-weinheim.de/events/pilates-4/var/ri-108.l-L1
END:VEVENT
END:VCALENDAR