BEGIN:VCALENDAR
VERSION:2.0
PRODID:-//eventon.com NONSGML v1.0//EN
CALSCALE:GREGORIAN
METHOD:PUBLISH
BEGIN:VEVENT
UID:69e6115e1e876
DTSTAMP:20260420T134326
DTSTART:20250102T100500Z
DTEND:20250102T105500Z
TZID:UTC
LOCATION:
SUMMARY:Pilates
DESCRIPTION:Schwierigkeit: G-F
URL:https://www.tsg-weinheim.de/events/pilates-4/var/ri-12.l-L1
END:VEVENT
END:VCALENDAR