BEGIN:VCALENDAR
VERSION:2.0
PRODID:-//eventon.com NONSGML v1.0//EN
CALSCALE:GREGORIAN
METHOD:PUBLISH
BEGIN:VEVENT
UID:69e9d68c1909c
DTSTAMP:20260423T102132
DTSTART:20241010T170500Z
DTEND:20241010T175500Z
TZID:UTC
LOCATION:
SUMMARY:Rückenfit
DESCRIPTION:Schwierigkeit: G-F
URL:https://www.tsg-weinheim.de/events/rueckenfit-6/var/ri-128.l-L1
END:VEVENT
END:VCALENDAR