BEGIN:VCALENDAR
VERSION:2.0
PRODID:-//eventon.com NONSGML v1.0//EN
CALSCALE:GREGORIAN
METHOD:PUBLISH
BEGIN:VEVENT
UID:69e78560dece4
DTSTAMP:20260421T161040
DTSTART:20250313T180500Z
DTEND:20250313T185500Z
TZID:UTC
LOCATION:
SUMMARY:Strong Body
DESCRIPTION:Schwierigkeit: F-S
URL:https://www.tsg-weinheim.de/events/strong-body/var/ri-22.l-L1
END:VEVENT
END:VCALENDAR