BEGIN:VCALENDAR
VERSION:2.0
PRODID:-//eventon.com NONSGML v1.0//EN
CALSCALE:GREGORIAN
METHOD:PUBLISH
BEGIN:VEVENT
UID:69e50e39698b5
DTSTAMP:20260419T191745
DTSTART:20250807T180500Z
DTEND:20250807T185500Z
TZID:UTC
LOCATION:
SUMMARY:Dance
DESCRIPTION:Schwierigkeit: F-S
URL:https://www.tsg-weinheim.de/events/dance-2/var/ri-43.l-L1
END:VEVENT
END:VCALENDAR