BEGIN:VCALENDAR
VERSION:2.0
PRODID:-//eventon.com NONSGML v1.0//EN
CALSCALE:GREGORIAN
METHOD:PUBLISH
BEGIN:VEVENT
UID:69e88b924f75f
DTSTAMP:20260422T104922
DTSTART:20250626T190500Z
DTEND:20250626T195500Z
TZID:UTC
LOCATION:
SUMMARY:Bodyworkout
DESCRIPTION:Schwierigkeit: F-S
URL:https://www.tsg-weinheim.de/events/bodyworkout/var/ri-37.l-L1
END:VEVENT
END:VCALENDAR