BEGIN:VCALENDAR
VERSION:2.0
PRODID:-//eventon.com NONSGML v1.0//EN
CALSCALE:GREGORIAN
METHOD:PUBLISH
BEGIN:VEVENT
UID:69e98ab78ad82
DTSTAMP:20260423T045759
DTSTART:20241220T090500Z
DTEND:20241220T095500Z
TZID:UTC
LOCATION:
SUMMARY:Energy Dance
DESCRIPTION:Schwierigkeit: G-F
URL:https://www.tsg-weinheim.de/events/energy-dance-2/var/ri-10.l-L1
END:VEVENT
END:VCALENDAR