BEGIN:VCALENDAR
VERSION:2.0
PRODID:-//eventon.com NONSGML v1.0//EN
CALSCALE:GREGORIAN
METHOD:PUBLISH
BEGIN:VEVENT
UID:69e5e4d6d67d9
DTSTAMP:20260420T103326
DTSTART:20260130T090500Z
DTEND:20260130T095500Z
TZID:UTC
LOCATION:
SUMMARY:Energy Dance
DESCRIPTION:Schwierigkeit: G-F
URL:https://www.tsg-weinheim.de/events/energy-dance-2/var/ri-68.l-L1
END:VEVENT
END:VCALENDAR