BEGIN:VCALENDAR
VERSION:2.0
PRODID:-//eventon.com NONSGML v1.0//EN
CALSCALE:GREGORIAN
METHOD:PUBLISH
BEGIN:VEVENT
UID:69e4e3db70dbd
DTSTAMP:20260419T161659
DTSTART:20241011T100500Z
DTEND:20241011T105500Z
TZID:UTC
LOCATION:
SUMMARY:Indoor Cycling
DESCRIPTION:Schwierigkeit: F-S
URL:https://www.tsg-weinheim.de/events/indoor-cycling-13/var/ri-141.l-L1
END:VEVENT
END:VCALENDAR