BEGIN:VCALENDAR
VERSION:2.0
PRODID:-//eventon.com NONSGML v1.0//EN
CALSCALE:GREGORIAN
METHOD:PUBLISH
BEGIN:VEVENT
UID:69ed04d98cea9
DTSTAMP:20260425T201553
DTSTART:20250214T100500Z
DTEND:20250214T105500Z
TZID:UTC
LOCATION:
SUMMARY:Indoor Cycling
DESCRIPTION:Schwierigkeit: F-S
URL:https://www.tsg-weinheim.de/events/indoor-cycling-13/var/ri-18.l-L1
END:VEVENT
END:VCALENDAR