BEGIN:VCALENDAR
VERSION:2.0
PRODID:-//eventon.com NONSGML v1.0//EN
CALSCALE:GREGORIAN
METHOD:PUBLISH
BEGIN:VEVENT
UID:69e5e503079ff
DTSTAMP:20260420T103411
DTSTART:20260403T111000Z
DTEND:20260403T114000Z
TZID:UTC
LOCATION:
SUMMARY:Tabata
DESCRIPTION:Schwierigkeit: F-S
URL:https://www.tsg-weinheim.de/events/tabata/var/ri-77.l-L1
END:VEVENT
END:VCALENDAR