BEGIN:VCALENDAR
VERSION:2.0
PRODID:-//eventon.com NONSGML v1.0//EN
CALSCALE:GREGORIAN
METHOD:PUBLISH
BEGIN:VEVENT
UID:69e8501d93a1b
DTSTAMP:20260422T063541
DTSTART:20250328T190500Z
DTEND:20250328T195500Z
TZID:UTC
LOCATION:
SUMMARY:Zumba
DESCRIPTION:Schwierigkeit: F-S
URL:https://www.tsg-weinheim.de/events/zumba-4/var/ri-24.l-L1
END:VEVENT
END:VCALENDAR