BEGIN:VCALENDAR
VERSION:2.0
PRODID:-//eventon.com NONSGML v1.0//EN
CALSCALE:GREGORIAN
METHOD:PUBLISH
BEGIN:VEVENT
UID:69e889359bed2
DTSTAMP:20260422T103917
DTSTART:20250905T190500Z
DTEND:20250905T195500Z
TZID:UTC
LOCATION:
SUMMARY:Zumba
DESCRIPTION:Schwierigkeit: F-S
URL:https://www.tsg-weinheim.de/events/zumba-4/var/ri-47.l-L1
END:VEVENT
END:VCALENDAR