BEGIN:VCALENDAR
VERSION:2.0
PRODID:-//eventon.com NONSGML v1.0//EN
CALSCALE:GREGORIAN
METHOD:PUBLISH
BEGIN:VEVENT
UID:69e98b42a534b
DTSTAMP:20260423T050018
DTSTART:20241012T110500Z
DTEND:20241012T115500Z
TZID:UTC
LOCATION:
SUMMARY:Dance
DESCRIPTION:Schwierigkeit: F-S
URL:https://www.tsg-weinheim.de/events/dance-3/
END:VEVENT
END:VCALENDAR