BEGIN:VCALENDAR
VERSION:2.0
PRODID:-//eventon.com NONSGML v1.0//EN
CALSCALE:GREGORIAN
METHOD:PUBLISH
BEGIN:VEVENT
UID:69eb57d1a2f02
DTSTAMP:20260424T134521
DTSTART:20250414T100500Z
DTEND:20250414T105500Z
TZID:UTC
LOCATION:
SUMMARY:Strong Body
DESCRIPTION:Schwierigkeit: F-S
URL:https://www.tsg-weinheim.de/events/strong-body-2/var/ri-26.l-L1
END:VEVENT
END:VCALENDAR