BEGIN:VCALENDAR
VERSION:2.0
PRODID:-//eventon.com NONSGML v1.0//EN
CALSCALE:GREGORIAN
METHOD:PUBLISH
BEGIN:VEVENT
UID:69e5931fdf331
DTSTAMP:20260420T044447
DTSTART:20250317T100500Z
DTEND:20250317T105500Z
TZID:UTC
LOCATION:
SUMMARY:Indoor Cycling
DESCRIPTION:Schwierigkeit: F
URL:https://www.tsg-weinheim.de/events/indoor-cycling-14/var/ri-22.l-L1
END:VEVENT
END:VCALENDAR