BEGIN:VCALENDAR
VERSION:2.0
PRODID:-//eventon.com NONSGML v1.0//EN
CALSCALE:GREGORIAN
METHOD:PUBLISH
BEGIN:VEVENT
UID:69ebc73300d72
DTSTAMP:20260424T214035
DTSTART:20241014T170500Z
DTEND:20241014T175500Z
TZID:UTC
LOCATION:
SUMMARY:Rückenfit
DESCRIPTION:Schwierigkeit: G-S
URL:https://www.tsg-weinheim.de/events/rueckenfit-9/
END:VEVENT
END:VCALENDAR