BEGIN:VCALENDAR
VERSION:2.0
PRODID:-//eventon.com NONSGML v1.0//EN
CALSCALE:GREGORIAN
METHOD:PUBLISH
BEGIN:VEVENT
UID:69ebb06dcbe4e
DTSTAMP:20260424T200325
DTSTART:20250929T170500Z
DTEND:20250929T175500Z
TZID:UTC
LOCATION:
SUMMARY:Rückenfit
DESCRIPTION:Schwierigkeit: G-S
URL:https://www.tsg-weinheim.de/events/rueckenfit-9/var/ri-50.l-L1
END:VEVENT
END:VCALENDAR