BEGIN:VCALENDAR
VERSION:2.0
PRODID:-//eventon.com NONSGML v1.0//EN
CALSCALE:GREGORIAN
METHOD:PUBLISH
BEGIN:VEVENT
UID:69e86601c1c1a
DTSTAMP:20260422T080905
DTSTART:20250224T180500Z
DTEND:20250224T185500Z
TZID:UTC
LOCATION:
SUMMARY:Bodyworkout
DESCRIPTION:Schwierigkeit: F-S
URL:https://www.tsg-weinheim.de/events/bodyworkout-2/var/ri-19.l-L1
END:VEVENT
END:VCALENDAR