BEGIN:VCALENDAR
VERSION:2.0
PRODID:-//eventon.com NONSGML v1.0//EN
CALSCALE:GREGORIAN
METHOD:PUBLISH
BEGIN:VEVENT
UID:69e9e4b3cd6f6
DTSTAMP:20260423T112155
DTSTART:20250505T180500Z
DTEND:20250505T185500Z
TZID:UTC
LOCATION:
SUMMARY:Indoor Cycling
DESCRIPTION:Schwierigkeit: F-S
URL:https://www.tsg-weinheim.de/events/indoor-cycling-15/var/ri-29.l-L1
END:VEVENT
END:VCALENDAR