BEGIN:VCALENDAR
VERSION:2.0
PRODID:-//eventon.com NONSGML v1.0//EN
CALSCALE:GREGORIAN
METHOD:PUBLISH
BEGIN:VEVENT
UID:69e905b8604a7
DTSTAMP:20260422T193032
DTSTART:20250526T190500Z
DTEND:20250526T195500Z
TZID:UTC
LOCATION:
SUMMARY:Step Choreo
DESCRIPTION:Schwierigkeit: F-S
URL:https://www.tsg-weinheim.de/events/step-choreo/var/ri-32.l-L1
END:VEVENT
END:VCALENDAR