BEGIN:VCALENDAR
VERSION:2.0
PRODID:-//eventon.com NONSGML v1.0//EN
CALSCALE:GREGORIAN
METHOD:PUBLISH
BEGIN:VEVENT
UID:69e7099cbf0a3
DTSTAMP:20260421T072236
DTSTART:20241015T100500Z
DTEND:20241015T105500Z
TZID:UTC
LOCATION:
SUMMARY:Dynamic Flow
DESCRIPTION:Schwierigkeit: G-F
URL:https://www.tsg-weinheim.de/events/dynamic-flow/
END:VEVENT
END:VCALENDAR