BEGIN:VCALENDAR
VERSION:2.0
PRODID:-//eventon.com NONSGML v1.0//EN
CALSCALE:GREGORIAN
METHOD:PUBLISH
BEGIN:VEVENT
UID:69e6f0130a580
DTSTAMP:20260421T053339
DTSTART:20250114T100500Z
DTEND:20250114T105500Z
TZID:UTC
LOCATION:
SUMMARY:Dynamic Flow
DESCRIPTION:Schwierigkeit: G-F
URL:https://www.tsg-weinheim.de/events/dynamic-flow/var/ri-13.l-L1
END:VEVENT
END:VCALENDAR