BEGIN:VCALENDAR
VERSION:2.0
PRODID:-//eventon.com NONSGML v1.0//EN
CALSCALE:GREGORIAN
METHOD:PUBLISH
BEGIN:VEVENT
UID:69ea7dfb63e2d
DTSTAMP:20260423T221555
DTSTART:20241210T100500Z
DTEND:20241210T105500Z
TZID:UTC
LOCATION:
SUMMARY:Dynamic Flow
DESCRIPTION:Schwierigkeit: G-F
URL:https://www.tsg-weinheim.de/events/dynamic-flow/var/ri-8.l-L1
END:VEVENT
END:VCALENDAR