BEGIN:VCALENDAR
VERSION:2.0
PRODID:-//eventon.com NONSGML v1.0//EN
CALSCALE:GREGORIAN
METHOD:PUBLISH
BEGIN:VEVENT
UID:69e554e30ce90
DTSTAMP:20260420T001915
DTSTART:20250513T100500Z
DTEND:20250513T105500Z
TZID:UTC
LOCATION:
SUMMARY:Antara Rücken
DESCRIPTION:Schwierigkeit: G-F
URL:https://www.tsg-weinheim.de/events/antara/var/ri-30.l-L1
END:VEVENT
END:VCALENDAR