BEGIN:VCALENDAR
VERSION:2.0
PRODID:-//eventon.com NONSGML v1.0//EN
CALSCALE:GREGORIAN
METHOD:PUBLISH
BEGIN:VEVENT
UID:69ea67b7a6e87
DTSTAMP:20260423T204055
DTSTART:20250211T190500Z
DTEND:20250211T195500Z
TZID:UTC
LOCATION:
SUMMARY:Zumba
DESCRIPTION:Schwierigkeit: F-S
URL:https://www.tsg-weinheim.de/events/zumba-5/var/ri-17.l-L1
END:VEVENT
END:VCALENDAR