BEGIN:VCALENDAR
VERSION:2.0
PRODID:-//eventon.com NONSGML v1.0//EN
CALSCALE:GREGORIAN
METHOD:PUBLISH
BEGIN:VEVENT
UID:69e88a9280921
DTSTAMP:20260422T104506
DTSTART:20250715T190500Z
DTEND:20250715T195500Z
TZID:UTC
LOCATION:
SUMMARY:Zumba
DESCRIPTION:Schwierigkeit: F-S
URL:https://www.tsg-weinheim.de/events/zumba-5/var/ri-39.l-L1
END:VEVENT
END:VCALENDAR