BEGIN:VCALENDAR
VERSION:2.0
PRODID:-//eventon.com NONSGML v1.0//EN
CALSCALE:GREGORIAN
METHOD:PUBLISH
BEGIN:VEVENT
UID:69e73e522767a
DTSTAMP:20260421T110730
DTSTART:20241015T200500Z
DTEND:20241015T212000Z
TZID:UTC
LOCATION:
SUMMARY:Yoga
DESCRIPTION:Schwierigkeit: G-F
URL:https://www.tsg-weinheim.de/events/yoga-3/
END:VEVENT
END:VCALENDAR