BEGIN:VCALENDAR
VERSION:2.0
PRODID:-//eventon.com NONSGML v1.0//EN
CALSCALE:GREGORIAN
METHOD:PUBLISH
BEGIN:VEVENT
UID:69e76f9db23d5
DTSTAMP:20260421T143749
DTSTART:20241016T100500Z
DTEND:20241016T105500Z
TZID:UTC
LOCATION:
SUMMARY:Bauch-Beine-Po
DESCRIPTION:Schwierigkeit: G-F
URL:https://www.tsg-weinheim.de/events/bauch-beine-po/
END:VEVENT
END:VCALENDAR