BEGIN:VCALENDAR
VERSION:2.0
PRODID:-//eventon.com NONSGML v1.0//EN
CALSCALE:GREGORIAN
METHOD:PUBLISH
BEGIN:VEVENT
UID:69e627d734dc6
DTSTAMP:20260420T151919
DTSTART:20250820T100500Z
DTEND:20250820T105500Z
TZID:UTC
LOCATION:
SUMMARY:Bauch-Beine-Po
DESCRIPTION:Schwierigkeit: G-F
URL:https://www.tsg-weinheim.de/events/bauch-beine-po/var/ri-44.l-L1
END:VEVENT
END:VCALENDAR