BEGIN:VCALENDAR
VERSION:2.0
PRODID:-//eventon.com NONSGML v1.0//EN
CALSCALE:GREGORIAN
METHOD:PUBLISH
BEGIN:VEVENT
UID:69e5e41f1bf6a
DTSTAMP:20260420T103023
DTSTART:20260422T100500Z
DTEND:20260422T105500Z
TZID:UTC
LOCATION:
SUMMARY:Bauch-Beine-Po
DESCRIPTION:Schwierigkeit: G-F
URL:https://www.tsg-weinheim.de/events/bauch-beine-po/var/ri-79.l-L1
END:VEVENT
END:VCALENDAR