BEGIN:VCALENDAR
VERSION:2.0
PRODID:-//eventon.com NONSGML v1.0//EN
CALSCALE:GREGORIAN
METHOD:PUBLISH
BEGIN:VEVENT
UID:69e5f4fc3b9b7
DTSTAMP:20260420T114220
DTSTART:20260722T100500Z
DTEND:20260722T105500Z
TZID:UTC
LOCATION:
SUMMARY:Bauch-Beine-Po
DESCRIPTION:Schwierigkeit: G-F
URL:https://www.tsg-weinheim.de/events/bauch-beine-po/var/ri-92.l-L1
END:VEVENT
END:VCALENDAR