BEGIN:VCALENDAR
VERSION:2.0
PRODID:-//eventon.com NONSGML v1.0//EN
CALSCALE:GREGORIAN
METHOD:PUBLISH
BEGIN:VEVENT
UID:69e73d8c60ceb
DTSTAMP:20260421T110412
DTSTART:20260812T100500Z
DTEND:20260812T105500Z
TZID:UTC
LOCATION:
SUMMARY:Bauch-Beine-Po
DESCRIPTION:Schwierigkeit: G-F
URL:https://www.tsg-weinheim.de/events/bauch-beine-po/var/ri-95.l-L1
END:VEVENT
END:VCALENDAR