BEGIN:VCALENDAR
VERSION:2.0
PRODID:-//eventon.com NONSGML v1.0//EN
CALSCALE:GREGORIAN
METHOD:PUBLISH
BEGIN:VEVENT
UID:69ead72719af2
DTSTAMP:20260424T043623
DTSTART:20241016T100500Z
DTEND:20241016T105500Z
TZID:UTC
LOCATION:
SUMMARY:Indoor Cycling
DESCRIPTION:Schwierigkeit: S
URL:https://www.tsg-weinheim.de/events/indoor-cycling-18/
END:VEVENT
END:VCALENDAR