BEGIN:VCALENDAR
VERSION:2.0
PRODID:-//eventon.com NONSGML v1.0//EN
CALSCALE:GREGORIAN
METHOD:PUBLISH
BEGIN:VEVENT
UID:69ecc474755c9
DTSTAMP:20260425T154108
DTSTART:20250108T185000Z
DTEND:20250108T193000Z
TZID:UTC
LOCATION:
SUMMARY:Aqua Power
DESCRIPTION:Schwierigkeit: F-A &nbsp;
URL:https://www.tsg-weinheim.de/events/aqua-power/var/ri-12.l-L1
END:VEVENT
END:VCALENDAR