BEGIN:VCALENDAR
VERSION:2.0
PRODID:-//eventon.com NONSGML v1.0//EN
CALSCALE:GREGORIAN
METHOD:PUBLISH
BEGIN:VEVENT
UID:69e9fb26593e1
DTSTAMP:20260423T125742
DTSTART:20250226T185000Z
DTEND:20250226T193000Z
TZID:UTC
LOCATION:
SUMMARY:Aqua Power
DESCRIPTION:Schwierigkeit: F-A &nbsp;
URL:https://www.tsg-weinheim.de/events/aqua-power/var/ri-19.l-L1
END:VEVENT
END:VCALENDAR