BEGIN:VCALENDAR
VERSION:2.0
PRODID:-//eventon.com NONSGML v1.0//EN
CALSCALE:GREGORIAN
METHOD:PUBLISH
BEGIN:VEVENT
UID:69ea00ce2f14d
DTSTAMP:20260423T132150
DTSTART:20250507T185000Z
DTEND:20250507T193000Z
TZID:UTC
LOCATION:
SUMMARY:Aqua Power
DESCRIPTION:Schwierigkeit: F-A &nbsp;
URL:https://www.tsg-weinheim.de/events/aqua-power/var/ri-29.l-L1
END:VEVENT
END:VCALENDAR