BEGIN:VCALENDAR
VERSION:2.0
PRODID:-//eventon.com NONSGML v1.0//EN
CALSCALE:GREGORIAN
METHOD:PUBLISH
BEGIN:VEVENT
UID:69e8a060cdd2e
DTSTAMP:20260422T121808
DTSTART:20241014T110500Z
DTEND:20241014T115500Z
TZID:UTC
LOCATION:
SUMMARY:Mobility
DESCRIPTION:Schwierigkeit: G-S
URL:https://www.tsg-weinheim.de/events/rhythm-mobility/
END:VEVENT
END:VCALENDAR