BEGIN:VCALENDAR
VERSION:2.0
PRODID:-//eventon.com NONSGML v1.0//EN
CALSCALE:GREGORIAN
METHOD:PUBLISH
BEGIN:VEVENT
UID:69ecc7d271d62
DTSTAMP:20260425T155530
DTSTART:20260302T090500Z
DTEND:20260302T095000Z
TZID:UTC
LOCATION:
SUMMARY:Aqua-Jogging
DESCRIPTION:Schwierigkeit: G
URL:https://www.tsg-weinheim.de/events/aqua-jogging/
END:VEVENT
END:VCALENDAR