BEGIN:VCALENDAR
VERSION:2.0
PRODID:-//eventon.com NONSGML v1.0//EN
CALSCALE:GREGORIAN
METHOD:PUBLISH
BEGIN:VEVENT
UID:69ed3a86e5b36
DTSTAMP:20260426T000454
DTSTART:20260629T090500Z
DTEND:20260629T095000Z
TZID:UTC
LOCATION:
SUMMARY:Aqua-Jogging
DESCRIPTION:Schwierigkeit: G
URL:https://www.tsg-weinheim.de/events/aqua-jogging/var/ri-17.l-L1
END:VEVENT
END:VCALENDAR