BEGIN:VCALENDAR
VERSION:2.0
PRODID:-//eventon.com NONSGML v1.0//EN
CALSCALE:GREGORIAN
METHOD:PUBLISH
BEGIN:VEVENT
UID:69e7c9706ae04
DTSTAMP:20260421T210104
DTSTART:20260810T090500Z
DTEND:20260810T095000Z
TZID:UTC
LOCATION:
SUMMARY:Aqua-Jogging
DESCRIPTION:Schwierigkeit: G
URL:https://www.tsg-weinheim.de/events/aqua-jogging/var/ri-23.l-L1
END:VEVENT
END:VCALENDAR