BEGIN:VCALENDAR
VERSION:2.0
PRODID:-//eventon.com NONSGML v1.0//EN
CALSCALE:GREGORIAN
METHOD:PUBLISH
BEGIN:VEVENT
UID:69ecb527ed3f3
DTSTAMP:20260425T143551
DTSTART:20270118T090500Z
DTEND:20270118T095000Z
TZID:UTC
LOCATION:
SUMMARY:Aqua-Jogging
DESCRIPTION:Schwierigkeit: G
URL:https://www.tsg-weinheim.de/events/aqua-jogging/var/ri-46.l-L1
END:VEVENT
END:VCALENDAR