BEGIN:VCALENDAR
VERSION:2.0
PRODID:-//eventon.com NONSGML v1.0//EN
CALSCALE:GREGORIAN
METHOD:PUBLISH
BEGIN:VEVENT
UID:69e5bdf43a5e4
DTSTAMP:20260420T074732
DTSTART:20260309T095500Z
DTEND:20260309T104000Z
TZID:UTC
LOCATION:
SUMMARY:Aqua-Jogging
DESCRIPTION:Schwierigkeit: G
URL:https://www.tsg-weinheim.de/events/aqua-jogging-2/var/ri-1.l-L1
END:VEVENT
END:VCALENDAR