BEGIN:VCALENDAR
VERSION:2.0
PRODID:-//eventon.com NONSGML v1.0//EN
CALSCALE:GREGORIAN
METHOD:PUBLISH
BEGIN:VEVENT
UID:69e6afd10fd5a
DTSTAMP:20260421T005929
DTSTART:20260901T090500Z
DTEND:20260901T095000Z
TZID:UTC
LOCATION:
SUMMARY:Aqua-Gymnastik
DESCRIPTION:Schwierigkeit: G
URL:https://www.tsg-weinheim.de/events/aqua-gymnastik/var/ri-26.l-L1
END:VEVENT
END:VCALENDAR